BEGIN:VCALENDAR
PRODID:-//eluceo/ical//2.0/EN
VERSION:2.0
CALSCALE:GREGORIAN
BEGIN:VEVENT
UID:cb94144d639f1e7c2bafe42154909e76
DTSTAMP:20260423T062639Z
SUMMARY:Zoom session with past emissary - Ron Marom
DESCRIPTION:Jewish Federation of Central Massachusetts\nCalendar\nhttps://j
 ewishcentralmass.org/calendar/zoom-session-with-past-emissary-ron-marom\n\
 nSunday\, January 17th at 9:00am \n\nJoin us for a community Zoom session
  with past emissary\, Ron Marom (2006-2007).
DTSTART;TZID=America/New_York:20210117T090000
DTEND;TZID=America/New_York:20210117T110000
END:VEVENT
END:VCALENDAR
