BEGIN:VCALENDAR
PRODID:-//eluceo/ical//2.0/EN
VERSION:2.0
CALSCALE:GREGORIAN
BEGIN:VEVENT
UID:c9e78b63975ebac8c69cf8c1a324513c
DTSTAMP:20260423T014947Z
SUMMARY:Young Families Pre-Shabbat Fun\, Music\, and Activities
DESCRIPTION:Jewish Federation of Central Massachusetts\nCalendar\nhttps://j
 ewishcentralmass.org/calendar/young-families-pre-shabbat-fun-music-and-act
 ivities\n\nSunday\, March 3rd\, 10:00 am\n\nYoung Families Pre-Shabbat Fun
 \, Music\, and Activities\n\nRabbi Aviva Fellman Congregation Beth Israel\
 , Worcester\n\nRSVP: receptionist@bethisraelworc.org
DTSTART;TZID=America/New_York:20240303T100000
DTEND;TZID=America/New_York:20240303T120000
END:VEVENT
END:VCALENDAR
