BEGIN:VCALENDAR
PRODID:-//eluceo/ical//2.0/EN
VERSION:2.0
CALSCALE:GREGORIAN
BEGIN:VEVENT
UID:4a75ebb149e5e46bb9c4b0b5a7dcfa8f
DTSTAMP:20260423T142311Z
SUMMARY:Young Emissary/Federation Shabbat at Congregation Beth Israel
DESCRIPTION:Jewish Federation of Central Massachusetts\nCalendar\nhttps://j
 ewishcentralmass.org/calendar/young-emissaryfederation-shabbat-at-congrega
 tion-beth-israel\n\nYoung Emissary/Federation Shabbat:\n\nSaturday morning
 \, October 19th   at  Congregation Beth Israel
DTSTART;TZID=America/New_York:20191019T080000
DTEND;TZID=America/New_York:20191019T120000
END:VEVENT
END:VCALENDAR
