BEGIN:VCALENDAR
PRODID:-//eluceo/ical//2.0/EN
VERSION:2.0
CALSCALE:GREGORIAN
BEGIN:VEVENT
UID:6729cb21d7d9cf769fdf20468bdef6f5
DTSTAMP:20260421T232014Z
SUMMARY:Young Emissary Shabbat Services at Beth Tikvah Synagogue
DESCRIPTION:Jewish Federation of Central Massachusetts\nCalendar\nhttps://j
 ewishcentralmass.org/calendar/young-emissary-shabbat-services-at-beth-tikv
 ah-synagogue\n\nFriday\, January 10th  6:00PM \n\nYoung Emissary Shabbat
  Services at Beth Tikvah Synagogue\n\n(6:00 Pot Luck Dinner and 7:00 Servi
 ces)
DTSTART;TZID=America/New_York:20200110T180000
DTEND;TZID=America/New_York:20200110T200000
END:VEVENT
END:VCALENDAR
