BEGIN:VCALENDAR
PRODID:-//eluceo/ical//2.0/EN
VERSION:2.0
CALSCALE:GREGORIAN
BEGIN:VEVENT
UID:b63b913d6125ffb5b5aa9fde93bb38b4
DTSTAMP:20260422T105629Z
SUMMARY:Young Emissary Shabbat Service at B'nai Shalom
DESCRIPTION:Jewish Federation of Central Massachusetts\nCalendar\nhttps://j
 ewishcentralmass.org/calendar/young-emissary-shabbat-service-at-bnai-shalo
 m\n\nYoung Emissary Shabbat Service at B'nai Shalom on April 17 at 7:30pm
DTSTART;TZID=America/New_York:20200417T193000
DTEND;TZID=America/New_York:20200417T203000
END:VEVENT
END:VCALENDAR
