BEGIN:VCALENDAR
PRODID:-//eluceo/ical//2.0/EN
VERSION:2.0
CALSCALE:GREGORIAN
BEGIN:VEVENT
UID:bdc9c99f0cc4ab00a387412ca89a9ecb
DTSTAMP:20260421T153258Z
SUMMARY:Young Emissary Mimouna
DESCRIPTION:Jewish Federation of Central Massachusetts\nCalendar\nhttps://j
 ewishcentralmass.org/calendar/young-emissary-mimouna\n\nPost Passover Moro
 ccan Celebration
DTSTART;TZID=America/New_York:20150411T201500
DTEND;TZID=America/New_York:20150411T220000
END:VEVENT
END:VCALENDAR
