BEGIN:VCALENDAR
PRODID:-//eluceo/ical//2.0/EN
VERSION:2.0
CALSCALE:GREGORIAN
BEGIN:VEVENT
UID:c9ce93b0c7bbe16e5c55a3a0f5509f76
DTSTAMP:20260423T070501Z
SUMMARY:Young Emissary Farewell BBQ - 2018
DESCRIPTION:Jewish Federation of Central Massachusetts\nCalendar\nhttps://j
 ewishcentralmass.org/calendar/young-emissary-farewell-bbq-2018\n\n Young 
 Emissary Farewell BBQ for Tamar and Stav on Thursday evening\, June 7th at
  6 pm.\n\nHosted by Dennis Lindenberg and Shelley Dubin.
DTSTART;TZID=America/New_York:20180607T180000
DTEND;TZID=America/New_York:20180607T210000
END:VEVENT
END:VCALENDAR
