BEGIN:VCALENDAR
PRODID:-//eluceo/ical//2.0/EN
VERSION:2.0
CALSCALE:GREGORIAN
BEGIN:VEVENT
UID:826bcb35fe69e9e259ca03c66040437f
DTSTAMP:20260423T185255Z
SUMMARY:Young Emissary Farewell BBQ
DESCRIPTION:Jewish Federation of Central Massachusetts\nCalendar\nhttps://j
 ewishcentralmass.org/calendar/young-emissary-farewell-bbq\n\nYoung Emissar
 y Farewell BBQ 
DTSTART;TZID=America/New_York:20160609T180000
DTEND;TZID=America/New_York:20160609T200000
END:VEVENT
END:VCALENDAR
