BEGIN:VCALENDAR
PRODID:-//eluceo/ical//2.0/EN
VERSION:2.0
CALSCALE:GREGORIAN
BEGIN:VEVENT
UID:33a73ff05fe7b9068ff19b22f68570ee
DTSTAMP:20260421T224149Z
SUMMARY:Yom Kippur - 5785
DESCRIPTION:Jewish Federation of Central Massachusetts\nCalendar\nhttps://j
 ewishcentralmass.org/calendar/yom-kippur-5785\n\nYom Kippur
DTSTART;TZID=America/New_York:20241012T000000
DTEND;TZID=America/New_York:20241012T235959
END:VEVENT
END:VCALENDAR
