BEGIN:VCALENDAR
PRODID:-//eluceo/ical//2.0/EN
VERSION:2.0
CALSCALE:GREGORIAN
BEGIN:VEVENT
UID:3dcb817d6ce669a947b25a590d355121
DTSTAMP:20260423T211916Z
SUMMARY:Yom Ha’zikaron Program 2023
DESCRIPTION:Jewish Federation of Central Massachusetts\nCalendar\nhttps://j
 ewishcentralmass.org/calendar/yom-hazikaron-program-2023\n\n Yom Ha’zik
 aron Program\n\nApril 23rd  1:00-3:00 
DTSTART;TZID=America/New_York:20230423T130000
DTEND;TZID=America/New_York:20230423T150000
END:VEVENT
END:VCALENDAR
