BEGIN:VCALENDAR
PRODID:-//eluceo/ical//2.0/EN
VERSION:2.0
CALSCALE:GREGORIAN
BEGIN:VEVENT
UID:7a9d02183c77df07a93bb1b406d69fdb
DTSTAMP:20260423T005726Z
SUMMARY:Yom Hazikaron 5785
DESCRIPTION:Jewish Federation of Central Massachusetts\nCalendar\nhttps://j
 ewishcentralmass.org/calendar/yom-hazikaron-5785\n\nYom Hazikaron 5785\n\
 nPlease note that our Community Yom Hazikaron and Yom Haatzmaut event is 
 on May 18th
DTSTART;TZID=America/New_York:20250430T000000
DTEND;TZID=America/New_York:20250430T235959
END:VEVENT
END:VCALENDAR
