BEGIN:VCALENDAR
PRODID:-//eluceo/ical//2.0/EN
VERSION:2.0
CALSCALE:GREGORIAN
BEGIN:VEVENT
UID:f79df8b8c6841397f9b5f4b29788236f
DTSTAMP:20260422T075412Z
SUMMARY:YOM HAZIKARON
DESCRIPTION:Jewish Federation of Central Massachusetts\nCalendar\nhttps://j
 ewishcentralmass.org/calendar/yom-hazikaron\n\nYOM HAZIKARON
DTSTART;TZID=America/New_York:20130415T000000
DTEND;TZID=America/New_York:20130415T235900
END:VEVENT
END:VCALENDAR
