BEGIN:VCALENDAR
PRODID:-//eluceo/ical//2.0/EN
VERSION:2.0
CALSCALE:GREGORIAN
BEGIN:VEVENT
UID:f2d335fc3309f0e1df86a43b5a1d8e7d
DTSTAMP:20260422T014349Z
SUMMARY:Yom Hashoah Community-wide commemoration
DESCRIPTION:Jewish Federation of Central Massachusetts\nCalendar\nhttps://j
 ewishcentralmass.org/calendar/yom-hashoah-community-wide-commemoration\n\n
 Community wide Yom Hashoah commemoration at Beth Israel.
DTSTART;TZID=America/New_York:20150415T190000
DTEND;TZID=America/New_York:20150415T210000
END:VEVENT
END:VCALENDAR
