BEGIN:VCALENDAR
PRODID:-//eluceo/ical//2.0/EN
VERSION:2.0
CALSCALE:GREGORIAN
BEGIN:VEVENT
UID:dd89d586df039f90b9dc9c54f3d30df8
DTSTAMP:20260420T082935Z
SUMMARY:Yom Hashoah 5786
DESCRIPTION:Jewish Federation of Central Massachusetts\nCalendar\nhttps://j
 ewishcentralmass.org/calendar/yom-hashoah-5786\n\nYom Hashoah 5786
DTSTART;TZID=America/New_York:20260414T000000
DTEND;TZID=America/New_York:20260414T235959
END:VEVENT
END:VCALENDAR
