BEGIN:VCALENDAR
PRODID:-//eluceo/ical//2.0/EN
VERSION:2.0
CALSCALE:GREGORIAN
BEGIN:VEVENT
UID:7dedb9e5b1d36c84c4f2755c95384cf1
DTSTAMP:20260422T112028Z
SUMMARY:Yom Hashoah 5785
DESCRIPTION:Jewish Federation of Central Massachusetts\nCalendar\nhttps://j
 ewishcentralmass.org/calendar/yom-hashoah-5785\n\nYom Hashoah 5785\n\nPlea
 se note that our Community Yom Hashoah event is on April 27th
DTSTART;TZID=America/New_York:20250424T000000
DTEND;TZID=America/New_York:20250424T235959
END:VEVENT
END:VCALENDAR
