BEGIN:VCALENDAR
PRODID:-//eluceo/ical//2.0/EN
VERSION:2.0
CALSCALE:GREGORIAN
BEGIN:VEVENT
UID:57d24abecf4ad84be22f6514640bc3c4
DTSTAMP:20260424T150626Z
SUMMARY:Yom Ha'atzmaut Speaker Dan Ephron
DESCRIPTION:Jewish Federation of Central Massachusetts\nCalendar\nhttps://j
 ewishcentralmass.org/calendar/yom-haatzmaut-speaker-dan-ephron\n\nDan Ephr
 on\, Yom Ha'atzmaut speaker\n\nKilling a King: The Assassination of Yitzha
 k Rabin and the Remaking of Israel\n\nNo fee\n\nWorcester JCC\n\nThe murde
 r of Prime Minister Yitzhak Rabin by Yigal Amir remains the single most co
 nsequential event in Israel’s recent history. Dan Ephron served as Jerus
 alem bureau chief of Newsweek and covered both the rally where Prime Minis
 ter Yitzhak Rabin was assassinated and the subsequent murder trial.
DTSTART;TZID=America/New_York:20160510T190000
DTEND;TZID=America/New_York:20160510T210000
END:VEVENT
END:VCALENDAR
