BEGIN:VCALENDAR
PRODID:-//eluceo/ical//2.0/EN
VERSION:2.0
CALSCALE:GREGORIAN
BEGIN:VEVENT
UID:b5c5eedd9619a33c29084541cc40c1ba
DTSTAMP:20260423T110706Z
SUMMARY:Yom Haatzmaut Israel Bonds Program
DESCRIPTION:Jewish Federation of Central Massachusetts\nCalendar\nhttps://j
 ewishcentralmass.org/calendar/yom-haatzmaut-israel-bonds-program\n\nYom Ha
 ’atzmaut Federation/Israel Bonds community celebration honoring Robin an
 d Andy Feldman\n\nSunday\, May 15th 12:00PM at Congregation B’nai Shalo
 m\, Westboro\n\n 
DTSTART;TZID=America/New_York:20220515T120000
DTEND;TZID=America/New_York:20220515T140000
END:VEVENT
END:VCALENDAR
