BEGIN:VCALENDAR
PRODID:-//eluceo/ical//2.0/EN
VERSION:2.0
CALSCALE:GREGORIAN
BEGIN:VEVENT
UID:3da115c69e58c050883ec330ac50e615
DTSTAMP:20260423T105816Z
SUMMARY:Yom Ha'Atzmaut Community wide Program
DESCRIPTION:Jewish Federation of Central Massachusetts\nCalendar\nhttps://j
 ewishcentralmass.org/calendar/yom-haatzmaut-community-wide-program\n\nYom 
 Ha'Atzmaut Community wide Prog
DTSTART;TZID=America/New_York:20140506T180000
DTEND;TZID=America/New_York:20140506T183000
END:VEVENT
END:VCALENDAR
