BEGIN:VCALENDAR
PRODID:-//eluceo/ical//2.0/EN
VERSION:2.0
CALSCALE:GREGORIAN
BEGIN:VEVENT
UID:1e4dac17aee00c2073b46fd4b8d93ece
DTSTAMP:20260423T024420Z
SUMMARY:Yom Ha'Atzmaut Community-wide Celebration
DESCRIPTION:Jewish Federation of Central Massachusetts\nCalendar\nhttps://j
 ewishcentralmass.org/calendar/yom-haatzmaut-community-wide-celebration\n\n
 Yom Ha'Atzmaut Community-wide Celebration
DTSTART;TZID=America/New_York:20130416T190000
DTEND;TZID=America/New_York:20130416T193000
END:VEVENT
END:VCALENDAR
