BEGIN:VCALENDAR
PRODID:-//eluceo/ical//2.0/EN
VERSION:2.0
CALSCALE:GREGORIAN
BEGIN:VEVENT
UID:bd0675ff6ab43e43d52b736dd700ae1c
DTSTAMP:20260420T185332Z
SUMMARY:Yom Ha'atzmaut 5786
DESCRIPTION:Jewish Federation of Central Massachusetts\nCalendar\nhttps://j
 ewishcentralmass.org/calendar/yom-haatzmaut-5786\n\nYom Ha'atzmaut 5786
DTSTART;TZID=America/New_York:20260422T000000
DTEND;TZID=America/New_York:20260422T235959
END:VEVENT
END:VCALENDAR
