BEGIN:VCALENDAR
PRODID:-//eluceo/ical//2.0/EN
VERSION:2.0
CALSCALE:GREGORIAN
BEGIN:VEVENT
UID:31b2b7bf4ca7ac8c77c234b9529014a5
DTSTAMP:20260421T091910Z
SUMMARY:YOM HA'ATZMAUT 5785
DESCRIPTION:Jewish Federation of Central Massachusetts\nCalendar\nhttps://j
 ewishcentralmass.org/calendar/yom-haatzmaut-5785\n\nYOM HA'ATZMAUT\n\nPlea
 se note that our Community Yom Hazikaron and Yom Haatzmaut program will 
 take place on May 18th
DTSTART;TZID=America/New_York:20250501T000000
DTEND;TZID=America/New_York:20250501T235959
END:VEVENT
END:VCALENDAR
