BEGIN:VCALENDAR
PRODID:-//eluceo/ical//2.0/EN
VERSION:2.0
CALSCALE:GREGORIAN
BEGIN:VEVENT
UID:22abda944f0372cf79c28a29f5565146
DTSTAMP:20260423T021145Z
SUMMARY:YOM HA'ATZMAUT
DESCRIPTION:Jewish Federation of Central Massachusetts\nCalendar\nhttps://j
 ewishcentralmass.org/calendar/yom-haatzmaut\n\nYOM HA'ATZMAUT
DTSTART;TZID=America/New_York:20130416T000000
DTEND;TZID=America/New_York:20130416T235900
END:VEVENT
END:VCALENDAR
