BEGIN:VCALENDAR
PRODID:-//eluceo/ical//2.0/EN
VERSION:2.0
CALSCALE:GREGORIAN
BEGIN:VEVENT
UID:35f929c0759dc48f3d0eb7a4dd587688
DTSTAMP:20260421T232922Z
SUMMARY:Yizkor and Evening Service 6:00 p.m.
DESCRIPTION:Jewish Federation of Central Massachusetts\nCalendar\nhttps://j
 ewishcentralmass.org/calendar/yizkor-and-evening-service-600-pm\n\nYizkor 
 and Evening Service 6:00 p.m.\n\nTo get more information\, including log i
 n info\, contact the Beth Israel office at 508-756-6204.
DTSTART;TZID=America/New_York:20200528T180000
DTEND;TZID=America/New_York:20200528T190000
END:VEVENT
END:VCALENDAR
