BEGIN:VCALENDAR
PRODID:-//eluceo/ical//2.0/EN
VERSION:2.0
CALSCALE:GREGORIAN
BEGIN:VEVENT
UID:b1d7ab0318176c7fb782d00d61d9e01f
DTSTAMP:20260422T194013Z
SUMMARY:JFCM Young Emissary Farewell BBQ
DESCRIPTION:Jewish Federation of Central Massachusetts\nCalendar\nhttps://j
 ewishcentralmass.org/calendar/yefarewell\n\nYoung Emissary Farewell BBQ
DTSTART;TZID=America/New_York:20170608T180000
DTEND;TZID=America/New_York:20170608T210000
END:VEVENT
END:VCALENDAR
