BEGIN:VCALENDAR
PRODID:-//eluceo/ical//2.0/EN
VERSION:2.0
CALSCALE:GREGORIAN
BEGIN:VEVENT
UID:d6c8b43edd5ab173a62d3c30d155ac25
DTSTAMP:20260422T134306Z
SUMMARY:YE farewell BBQ 2019
DESCRIPTION:Jewish Federation of Central Massachusetts\nCalendar\nhttps://j
 ewishcentralmass.org/calendar/ye-farewell-bbq-2019\n\nJune 6th  - YE 201
 9 farewell BBQ \n\nLindenberg home
DTSTART;TZID=America/New_York:20190606T060000
DTEND;TZID=America/New_York:20190606T200000
END:VEVENT
END:VCALENDAR
