BEGIN:VCALENDAR
PRODID:-//eluceo/ical//2.0/EN
VERSION:2.0
CALSCALE:GREGORIAN
BEGIN:VEVENT
UID:2908727998e744e218e7f36fd0dafccc
DTSTAMP:20260423T062237Z
SUMMARY:YAD's Torah on Tap 2025
DESCRIPTION:Jewish Federation of Central Massachusetts\nCalendar\nhttps://j
 ewishcentralmass.org/calendar/yads-torah-on-tap-2025\n\nYAD's Torah on Tap
  Event\n\nTorah on Tap Getting Through Grief and Challenging Times\n\nWHEN
 : Sunday\, January 26th\, 1:30 pm\n\nWHERE: Horseshoe Pub\, Hudson\, 2nd f
 loor\n\nRSVP: Mindy Hall\, mhall@jfcm.org\n\nJoin us for a spiritual conve
 rsation on how to navigate through tough times in your life through the le
 ns of Judaism. We welcome our facilitator Rabbi Eve Eichenholtz from Congr
 egation Agudat Achim in Leominster.
DTSTART;TZID=America/New_York:20250126T133000
DTEND;TZID=America/New_York:20250126T153000
END:VEVENT
END:VCALENDAR
