BEGIN:VCALENDAR
PRODID:-//eluceo/ical//2.0/EN
VERSION:2.0
CALSCALE:GREGORIAN
BEGIN:VEVENT
UID:9cf2cad489f00f7da61ff5fcf06f4b41
DTSTAMP:20260420T235602Z
SUMMARY:YAD Comedy Night and Mixer with Comedienne Eli Lebowicz
DESCRIPTION:Jewish Federation of Central Massachusetts\nCalendar\nhttps://j
 ewishcentralmass.org/calendar/yadcomedynight\n\nCalling all Young Adults a
 ges 22-45 (ish)! You're invited to a night of laughs with Comedian Eli Leb
 owicz. All are welcome! After the show\, unattached participants are invit
 ed to stay for the Singles Mixer from 9:00-9:30 pm along with members of t
 he Jewish Federation of Western Mass. Come for the laughs\; stay for the c
 onnection.\n\nTo attend this program\, we request that you make a donation
  to the 2021 Campaign of the Jewish Federation of Central Mass and be our 
 guest for this program. If you...
DTSTART;TZID=America/New_York:20210130T200000
DTEND;TZID=America/New_York:20210130T213000
END:VEVENT
END:VCALENDAR
