BEGIN:VCALENDAR
PRODID:-//eluceo/ical//2.0/EN
VERSION:2.0
CALSCALE:GREGORIAN
BEGIN:VEVENT
UID:719c3616911a373aabf2276bcbc2c9d3
DTSTAMP:20260422T184845Z
SUMMARY:YAD - Worcester Fireworks
DESCRIPTION:Jewish Federation of Central Massachusetts\nCalendar\nhttps://j
 ewishcentralmass.org/calendar/yad-worcester-fireworks\n\nWorcester Firewor
 ks: June 30th\, 7:30 pm\, White City Plaza. Meet outside Panera\, eat dinn
 er\, then watch Worcester’s Annual July 4th Fireworks 
DTSTART;TZID=America/New_York:20220630T193000
DTEND;TZID=America/New_York:20220630T213000
END:VEVENT
END:VCALENDAR
