BEGIN:VCALENDAR
PRODID:-//eluceo/ical//2.0/EN
VERSION:2.0
CALSCALE:GREGORIAN
BEGIN:VEVENT
UID:9444defdc489a3642258d9ba3e0236c2
DTSTAMP:20260423T175336Z
SUMMARY:YAD Torah on Tap with Rabbi Moshe Liberow
DESCRIPTION:Jewish Federation of Central Massachusetts\nCalendar\nhttps://j
 ewishcentralmass.org/calendar/yad-torah-on-tap-with-rabbi-moshe-liberow\n\
 nYAD Torah on Tap with Rabbi Moshe Liberow at Redemption Rock\, Shrewsbury
  Street - Worcester.\n\nRSVP to Mindy Hall.
DTSTART;TZID=America/New_York:20190728T160000
DTEND;TZID=America/New_York:20190728T180000
END:VEVENT
END:VCALENDAR
