BEGIN:VCALENDAR
PRODID:-//eluceo/ical//2.0/EN
VERSION:2.0
CALSCALE:GREGORIAN
BEGIN:VEVENT
UID:3fbb69f03c82a6dae366aa4d59e6d387
DTSTAMP:20260421T011209Z
SUMMARY:YAD Torah on Tap - March 2024
DESCRIPTION:Jewish Federation of Central Massachusetts\nCalendar\nhttps://j
 ewishcentralmass.org/calendar/yad-torah-on-tap-march-2024\n\nYAD Torah on 
 Tap\n\nMarch 10\, 4 pm\n\n 
DTSTART;TZID=America/New_York:20240310T160000
DTEND;TZID=America/New_York:20240310T180000
END:VEVENT
END:VCALENDAR
