BEGIN:VCALENDAR
PRODID:-//eluceo/ical//2.0/EN
VERSION:2.0
CALSCALE:GREGORIAN
BEGIN:VEVENT
UID:d02cf141e992e1a49f2e36ac0e1ab990
DTSTAMP:20260421T040116Z
SUMMARY:YAD Torah on Tap 2022
DESCRIPTION:Jewish Federation of Central Massachusetts\nCalendar\nhttps://j
 ewishcentralmass.org/calendar/yad-torah-on-tap-2022\n\nSunday\, September 
 18th\,  2:00 pm\n\nYAD Torah on Tap\n\nHorseshoe pub\, 29 South Street\, 
 Hudson\, MA
DTSTART;TZID=America/New_York:20220918T140000
DTEND;TZID=America/New_York:20220918T150000
END:VEVENT
END:VCALENDAR
