BEGIN:VCALENDAR
PRODID:-//eluceo/ical//2.0/EN
VERSION:2.0
CALSCALE:GREGORIAN
BEGIN:VEVENT
UID:9be860dd4b51fd5800bc5f4bdfae0a0c
DTSTAMP:20260423T052938Z
SUMMARY:YAD Torah on Tap
DESCRIPTION:Jewish Federation of Central Massachusetts\nCalendar\nhttps://j
 ewishcentralmass.org/calendar/yad-torah-on-tap\n\nFeb 9th\, YAD Torah on T
 ap with Rabbi Swarttz\, Reunion’s Tap and Grill\, N. Grafton\, 2-4pm
DTSTART;TZID=America/New_York:20200209T140000
DTEND;TZID=America/New_York:20200209T160000
END:VEVENT
END:VCALENDAR
