BEGIN:VCALENDAR
PRODID:-//eluceo/ical//2.0/EN
VERSION:2.0
CALSCALE:GREGORIAN
BEGIN:VEVENT
UID:e0ac9645443c188d56523858adca4184
DTSTAMP:20260423T152008Z
SUMMARY:YAD - SWIM\, STITCH\, and B-TCH at MINDY H’s POOL
DESCRIPTION:Jewish Federation of Central Massachusetts\nCalendar\nhttps://j
 ewishcentralmass.org/calendar/yad-swim-stitch-and-b-tch-at-mindy-hs-pool\n
 \nSWIM\, STITCH\, and B-TCH at MINDY H’s POOL—Bring your favorite craf
 t (or not)\, bathing suit\, towel and sunscreen and let’s enjoy a few ho
 urs together poolside. Sunday\, August 8th\, 11:00am-1:00 pm in Shrewsbury
 . Please note as this is a private home\, we ask that you be vaccinated to
  attend. Please bring a mask if you need to go inside and use the faciliti
 es. Group size will be limited based on CDC guidelines at that time. Pleas
 e RSVP for address. If weather not welcoming\, we will do event...
DTSTART;TZID=America/New_York:20210808T110000
DTEND;TZID=America/New_York:20210808T130000
END:VEVENT
END:VCALENDAR
