BEGIN:VCALENDAR
PRODID:-//eluceo/ical//2.0/EN
VERSION:2.0
CALSCALE:GREGORIAN
BEGIN:VEVENT
UID:cd1ff4a10c9f4dde405ea1d3f21fb75c
DTSTAMP:20260421T130850Z
SUMMARY:YAD Supper Club for New Year's
DESCRIPTION:Jewish Federation of Central Massachusetts\nCalendar\nhttps://j
 ewishcentralmass.org/calendar/yad-supper-club-for-new-years\n\nYAD Supper 
 Club for New Year's
DTSTART;TZID=America/New_York:20170917T183000
DTEND;TZID=America/New_York:20170917T203000
END:VEVENT
END:VCALENDAR
