BEGIN:VCALENDAR
PRODID:-//eluceo/ical//2.0/EN
VERSION:2.0
CALSCALE:GREGORIAN
BEGIN:VEVENT
UID:cc856d7dbdd3aa4820d8930756dac203
DTSTAMP:20260422T151502Z
SUMMARY:YAD Supper Club June
DESCRIPTION:Jewish Federation of Central Massachusetts\nCalendar\nhttps://j
 ewishcentralmass.org/calendar/yad-supper-club-June\n\nJoin us for YAD Mont
 hly Supper Club\n\nJune 22nd\, 6:30pm at Zorba's\, Worcester\n\nJuly 12th\
 , 6:30pm at Vintage Cafe\, Worcester\n\nAugust 16th\, Locale TBA
DTSTART;TZID=America/New_York:20170622T183000
DTEND;TZID=America/New_York:20170622T203000
END:VEVENT
END:VCALENDAR
