BEGIN:VCALENDAR
PRODID:-//eluceo/ical//2.0/EN
VERSION:2.0
CALSCALE:GREGORIAN
BEGIN:VEVENT
UID:f5c760a51dd4b0cb276bac514ef4d01a
DTSTAMP:20260422T030903Z
SUMMARY:YAD Sunday Under the Sukkah
DESCRIPTION:Jewish Federation of Central Massachusetts\nCalendar\nhttps://j
 ewishcentralmass.org/calendar/yad-sunday-under-the-sukkah\n\nYAD Sunday Un
 der the Sukkah\, 2:00 pm
DTSTART;TZID=America/New_York:20191020T140000
DTEND;TZID=America/New_York:20191020T160000
END:VEVENT
END:VCALENDAR
