BEGIN:VCALENDAR
PRODID:-//eluceo/ical//2.0/EN
VERSION:2.0
CALSCALE:GREGORIAN
BEGIN:VEVENT
UID:a3c27734f663df32566a0d38dd3b83e4
DTSTAMP:20260422T140537Z
SUMMARY:YAD - Summer Party
DESCRIPTION:Jewish Federation of Central Massachusetts\nCalendar\nhttps://j
 ewishcentralmass.org/calendar/yad-summer-party\n\nSummer Party at Anna's.\
 nRSVP to mhall@jfcm.org
DTSTART;TZID=America/New_York:20230723T130000
DTEND;TZID=America/New_York:20230723T150000
END:VEVENT
END:VCALENDAR
