BEGIN:VCALENDAR
PRODID:-//eluceo/ical//2.0/EN
VERSION:2.0
CALSCALE:GREGORIAN
BEGIN:VEVENT
UID:475208994a64b2324951e84b43ce3400
DTSTAMP:20260420T202629Z
SUMMARY:YAD - Summer BBQ and Swim
DESCRIPTION:Jewish Federation of Central Massachusetts\nCalendar\nhttps://j
 ewishcentralmass.org/calendar/yad-summer-bbq-and-swim\n\nSummer Swim and B
 BQ: Sunday\, July 24th at Mindy’s pool at 2:00 pm
DTSTART;TZID=America/New_York:20220724T140000
DTEND;TZID=America/New_York:20220724T170000
END:VEVENT
END:VCALENDAR
