BEGIN:VCALENDAR
PRODID:-//eluceo/ical//2.0/EN
VERSION:2.0
CALSCALE:GREGORIAN
BEGIN:VEVENT
UID:0abf00d89c48a830eecf49b93942510a
DTSTAMP:20260424T124549Z
SUMMARY:YAD Sukkot: Pizza in the Hut
DESCRIPTION:Jewish Federation of Central Massachusetts\nCalendar\nhttps://j
 ewishcentralmass.org/calendar/yad-sukkot-pizza-in-the-hut\n\nYAD Sukkot: P
 izza in the Hut\n\nMonday\, September 24th at 6:30pm\n\nThe YAD Sukkah wil
 l be set up at Sara and Alisa's so join us for some pizza in the hut!\n\nP
 lease RSVP what side (dairy or veggie only) you will bring\, and for the a
 ddress.
DTSTART;TZID=America/New_York:20180924T183000
DTEND;TZID=America/New_York:20180924T203000
END:VEVENT
END:VCALENDAR
