BEGIN:VCALENDAR
PRODID:-//eluceo/ical//2.0/EN
VERSION:2.0
CALSCALE:GREGORIAN
BEGIN:VEVENT
UID:aa75ade7cd8bc31aaedd12756d4d7878
DTSTAMP:20260423T131803Z
SUMMARY:YAD Sukkot Event
DESCRIPTION:Jewish Federation of Central Massachusetts\nCalendar\nhttps://j
 ewishcentralmass.org/calendar/yad-sukkot-event\n\nOctober 4th\, Sukkot eve
 nt TBA
DTSTART;TZID=America/New_York:20201004T160000
DTEND;TZID=America/New_York:20201004T200000
END:VEVENT
END:VCALENDAR
