BEGIN:VCALENDAR
PRODID:-//eluceo/ical//2.0/EN
VERSION:2.0
CALSCALE:GREGORIAN
BEGIN:VEVENT
UID:38f8c75427998534a8f81803582df5b8
DTSTAMP:20260421T062556Z
SUMMARY:YAD Socially Distant Pre-Rosh Hashanah “BYO picnic lunch” at El
 m Park
DESCRIPTION:Jewish Federation of Central Massachusetts\nCalendar\nhttps://j
 ewishcentralmass.org/calendar/yad-socially-distant-pre-rosh-hashanah-bring
 -your-own-picnic-lunch-at-elm-park\n\nYAD Socially Distant Pre-Rosh Hashan
 ah “Bring your own picnic lunch” at Elm Park\n\nWorcester\, Time TBA (
 weather permitting)
DTSTART;TZID=America/New_York:20200913T120000
DTEND;TZID=America/New_York:20200913T140000
END:VEVENT
END:VCALENDAR
