BEGIN:VCALENDAR
PRODID:-//eluceo/ical//2.0/EN
VERSION:2.0
CALSCALE:GREGORIAN
BEGIN:VEVENT
UID:cb9474568144f815aa88c1225c0efc75
DTSTAMP:20260422T024303Z
SUMMARY:YAD Shabbat Lunch in the Sukkah Saturday 2023
DESCRIPTION:Jewish Federation of Central Massachusetts\nCalendar\nhttps://j
 ewishcentralmass.org/calendar/yad-shabbat-lunch-in-the-sukkah-saturday-202
 3\n\nYAD Shabbat Lunch in the Sukkah Saturday\, September 30\, 12:00 pm
DTSTART;TZID=America/New_York:20230930T120000
DTEND;TZID=America/New_York:20230930T140000
END:VEVENT
END:VCALENDAR
