BEGIN:VCALENDAR
PRODID:-//eluceo/ical//2.0/EN
VERSION:2.0
CALSCALE:GREGORIAN
BEGIN:VEVENT
UID:bc0ba01fbd7c85bb2483db1bcf248a27
DTSTAMP:20260422T092951Z
SUMMARY:YAD Shabbat Lunch in the Sukkah 2024
DESCRIPTION:Jewish Federation of Central Massachusetts\nCalendar\nhttps://j
 ewishcentralmass.org/calendar/yad-shabbat-lunch-in-the-sukkah-2024\n\nYAD 
 Shabbat Lunch in the Sukkah. October 19th
DTSTART;TZID=America/New_York:20241019T000000
DTEND;TZID=America/New_York:20241019T235959
END:VEVENT
END:VCALENDAR
