BEGIN:VCALENDAR
PRODID:-//eluceo/ical//2.0/EN
VERSION:2.0
CALSCALE:GREGORIAN
BEGIN:VEVENT
UID:946cdd80ab1395fb5d9c54afe4fa50a0
DTSTAMP:20260423T033631Z
SUMMARY:YAD: Shabbat Lunch at SPEC Pond
DESCRIPTION:Jewish Federation of Central Massachusetts\nCalendar\nhttps://j
 ewishcentralmass.org/calendar/yad-shabbat-lunch-at-spec-pond\n\nYAD Shabba
 t Lunch at SPEC Pond\, Lancaster (JCC Leominster): Saturday\, July 27th\, 
 12:00 pm. Bring your own picnic lunch\, towels\, and bathing suits!
DTSTART;TZID=America/New_York:20240727T120000
DTEND;TZID=America/New_York:20240727T140000
END:VEVENT
END:VCALENDAR
