BEGIN:VCALENDAR
PRODID:-//eluceo/ical//2.0/EN
VERSION:2.0
CALSCALE:GREGORIAN
BEGIN:VEVENT
UID:0543fe934cacd71d690f182aafccbcc9
DTSTAMP:20260423T104048Z
SUMMARY:YAD - Shabbat Lunch at Elm Park
DESCRIPTION:Jewish Federation of Central Massachusetts\nCalendar\nhttps://j
 ewishcentralmass.org/calendar/yad-shabbat-lunch-at-elm-park\n\nShabbat Lun
 ch at Elm Park: Saturday\, June 18th 12 pm at Elm Park. Meet at park edge 
 across from 140 Elm St. Hosted by Ezra.
DTSTART;TZID=America/New_York:20220618T120000
DTEND;TZID=America/New_York:20220618T140000
END:VEVENT
END:VCALENDAR
