BEGIN:VCALENDAR
PRODID:-//eluceo/ical//2.0/EN
VERSION:2.0
CALSCALE:GREGORIAN
BEGIN:VEVENT
UID:6da40561c2b3be388dea0699a7bd26f7
DTSTAMP:20260422T180918Z
SUMMARY:YAD Shabbat Lunch and games 2022
DESCRIPTION:Jewish Federation of Central Massachusetts\nCalendar\nhttps://j
 ewishcentralmass.org/calendar/yad-shabbat-lunch-and-games-2022\n\nSaturday
 \, October 22\, YAD Shabbat Lunch and games\, 12:00 pm
DTSTART;TZID=America/New_York:20221022T120000
DTEND;TZID=America/New_York:20221022T140000
END:VEVENT
END:VCALENDAR
