BEGIN:VCALENDAR
PRODID:-//eluceo/ical//2.0/EN
VERSION:2.0
CALSCALE:GREGORIAN
BEGIN:VEVENT
UID:2c680dc8b8c7ea0d2b01d900d07f6072
DTSTAMP:20260424T012647Z
SUMMARY:YAD Shabbat Lunch
DESCRIPTION:Jewish Federation of Central Massachusetts\nCalendar\nhttps://j
 ewishcentralmass.org/calendar/yad-shabbat-lunch\n\nYAD Shabbat Lunch\, Sep
 tember 7th\, 12:00 pm\n\n 
DTSTART;TZID=America/New_York:20240907T120000
DTEND;TZID=America/New_York:20240907T140000
END:VEVENT
END:VCALENDAR
