BEGIN:VCALENDAR
PRODID:-//eluceo/ical//2.0/EN
VERSION:2.0
CALSCALE:GREGORIAN
BEGIN:VEVENT
UID:cf05938c44b62017bd2d70837c618a6b
DTSTAMP:20260423T133855Z
SUMMARY:YAD Shabbat Across Central Mass
DESCRIPTION:Jewish Federation of Central Massachusetts\nCalendar\nhttps://j
 ewishcentralmass.org/calendar/yad-shabbat-across-central-mass\n\nYAD Shabb
 at Across Central Mass \n\nMarch 8th\, 6:45 pm
DTSTART;TZID=America/New_York:20240308T184500
DTEND;TZID=America/New_York:20240308T204500
END:VEVENT
END:VCALENDAR
