BEGIN:VCALENDAR
PRODID:-//eluceo/ical//2.0/EN
VERSION:2.0
CALSCALE:GREGORIAN
BEGIN:VEVENT
UID:5576966d6a85efe9f28763e7388f7231
DTSTAMP:20260423T162508Z
SUMMARY:YAD Second Night of Rosh Hashanah Dinner 2023
DESCRIPTION:Jewish Federation of Central Massachusetts\nCalendar\nhttps://j
 ewishcentralmass.org/calendar/yad-second-night-of-rosh-hashanah-dinner-202
 3\n\nYAD Second Night of Rosh Hashanah Dinner on Saturday\, Sept 16\, The 
 Mansion\, Worcester
DTSTART;TZID=America/New_York:20230916T180000
DTEND;TZID=America/New_York:20230916T200000
END:VEVENT
END:VCALENDAR
