BEGIN:VCALENDAR
PRODID:-//eluceo/ical//2.0/EN
VERSION:2.0
CALSCALE:GREGORIAN
BEGIN:VEVENT
UID:a9824c14ceaa796c344525fbb1206748
DTSTAMP:20260422T030027Z
SUMMARY:YAD Schmooze with Jews
DESCRIPTION:Jewish Federation of Central Massachusetts\nCalendar\nhttps://j
 ewishcentralmass.org/calendar/yad-schmooze-with-jews\n\nYAD Schmooze with 
 Jews\, Hibachi Dinner at Okami in the Apex Center\, Marlborough.\n\nRSVP t
 o Mindy Hall.
DTSTART;TZID=America/New_York:20190718T183000
DTEND;TZID=America/New_York:20190718T203000
END:VEVENT
END:VCALENDAR
